BEGIN:VCALENDAR
VERSION:2.0
PRODID:-//wp-events-plugin.com//7.2.3.1//EN
BEGIN:VEVENT
UID:13@thegreatbarrhotel.com
DTSTART:20231231T193000Z
DTEND:20240101T003000Z
DTSTAMP:20231103T152654Z
URL:https://www.thegreatbarrhotel.com/events/new-year-eve-neil-diamond-tri
 bute/
SUMMARY:New Year Eve Neil Diamond Tribute
DESCRIPTION:Welcome the New Year in grand style at the Great Barr!
END:VEVENT
END:VCALENDAR