BEGIN:VCALENDAR
VERSION:2.0
PRODID:-//wp-events-plugin.com//7.2.3.1//EN
BEGIN:VEVENT
UID:40@thegreatbarrhotel.com
DTSTART:20241116T190000Z
DTEND:20241117T003000Z
DTSTAMP:20240520T084451Z
URL:https://www.thegreatbarrhotel.com/events/motown-tribute-night/
SUMMARY:Motown Tribute Night
DESCRIPTION:\nStep into the soulful rhythm of Motown at our Baby Love Tribu
 te Night! Indulge in the classics and sway to the timeless Motown hits. Yo
 ur ticket ensures an exquisite three-course meal and a night filled with t
 he groovy beats. Let our late-night DJ keep the celebration alive! Join us
  for a night of nostalgia\, good food\, and even better music. Secure your
  spot now and let the Motown magic unfold!\nBook Now! \nhttps://buyticket
 s.at/thegreatbarrhotel/1209558\n\nWhat’s on the menu\n  https://www.th
 egreatbarrhotel.com/tribute-nights/\nUpgrade your tribute night\nUpgrade y
 our tribute night experience with our exclusive Prosecco Package! Indulge 
 in two tribute night tickets\, a comfortable overnight stay\, a delightful
  bottle of Prosecco awaiting you\, and wake up to the luxury of a deliciou
 s full English breakfast all for just £180.\nTo reserve your Prosecco pac
 kage\, dial 0121 357 1141
END:VEVENT
END:VCALENDAR