BEGIN:VCALENDAR
VERSION:2.0
PRODID:-//wp-events-plugin.com//7.2.3.1//EN
BEGIN:VEVENT
UID:28@thegreatbarrhotel.com
DTSTART:20241206T193000Z
DTEND:20241207T003000Z
DTSTAMP:20241014T123202Z
URL:https://www.thegreatbarrhotel.com/events/motown-babylove-christmas-tri
 bute-night/
SUMMARY:Motown BabyLove Christmas Tribute Night
DESCRIPTION:\nExperience the magic of Christmas with our Motown Baby Love T
 ribute Night!  Join us for a festive celebration filled with soulful tune
 s and the joy of the season. Kick off the festivities with a Christmas-the
 med three-course meal that'll tantalise your taste buds. The merriment con
 tinues into the night with a DJ spinning tunes till late. Hurry and secure
  your tickets for a night of holiday cheer and musical delight!\n\nSOLD OU
 T!\nhttps://buytickets.at/thegreatbarrhotel/1265440\n\nWhat’s on the men
 u\nDownload the brochure to see all the Christmas menus\nhttps://www.theg
 reatbarrhotel.com/christmas/\n\nUpgrade your tribute night\nUpgrade your 
 festive tribute night experience with our exclusive Prosecco Package! Indu
 lge in two Christmas tribute night tickets\, a comfortable overnight stay\
 , and a delightful bottle of Prosecco awaiting you\, and wake up to the lu
 xury of a delicious full English breakfast all for just £190.\nTo reser
 ve your Prosecco package\, call us on 0121 357 1141\n&nbsp\;
END:VEVENT
END:VCALENDAR