BEGIN:VCALENDAR
VERSION:2.0
PRODID:-//wp-events-plugin.com//7.2.3.1//EN
BEGIN:VEVENT
UID:31@thegreatbarrhotel.com
DTSTART:20241207T193000Z
DTEND:20241208T003000Z
DTSTAMP:20241014T123604Z
URL:https://www.thegreatbarrhotel.com/events/grease-dirty-dancing-christma
 s-tribute-night-2/
SUMMARY:Grease & Dirty Dancing Christmas Tribute Night
DESCRIPTION:\nFeel the holiday spirit with our Grease &amp\; Dirty Dancing 
 Christmas Tribute Night! Join us for a yuletide celebration filled with ic
 onic tunes and festive joy. Start the festivities off right with a Christm
 as-themed three-course meal that's sure to please your palate. Keep the ho
 liday vibes alive as our DJ spins tunes till the late hours. Hurry and gra
 b your tickets for a night of Christmas cheer\, dance\, and musical enchan
 tment!\n\nSOLD OUT! \nhttps://buytickets.at/thegreatbarrhotel/1265446\n\n
 What’s on the menu\nDownload the brochure to see all the Christmas menu
 s\nhttps://www.thegreatbarrhotel.com/christmas/\n\nUpgrade your tribute n
 ight\nUpgrade your festive tribute night experience with our exclusive Pro
 secco Package! Indulge in two Christmas tribute night tickets\, a comforta
 ble overnight stay\, and a delightful bottle of Prosecco awaiting you\, an
 d wake up to the luxury of a delicious full English breakfast all for ju
 st £190.\nTo reserve your Prosecco package\, call us on 0121 357 1141\n&n
 bsp\;
END:VEVENT
END:VCALENDAR