BEGIN:VCALENDAR
VERSION:2.0
PRODID:-//wp-events-plugin.com//7.2.3.1//EN
BEGIN:VEVENT
UID:52@thegreatbarrhotel.com
DTSTART:20250405T190000Z
DTEND:20250406T003000Z
DTSTAMP:20250226T095510Z
URL:https://www.thegreatbarrhotel.com/events/abba-tribute-night-5/
SUMMARY:ABBA Tribute Night
DESCRIPTION:\n🪩 Immerse yourself in our ABBA tribute night! Your ticket 
 includes a specially prepared three-course meal and a night of ABBA magic!
   Get ready to dance and sing along to all your favourite ABBA hits as ou
 r DJ keeps the party going all night long. Secure your spot now and join u
 s for the ultimate ABBA Tribute Night! 🎟️\nBook now\nhttps://www.tick
 ettailor.com/all-tickets/thegreatbarrhotel/\nUpgrade your tribute night- U
 pgrade your tribute night experience with our exclusive Prosecco Package! 
 Enjoy two tribute night tickets\, a comfortable overnight stay\, an iced b
 ottle of Prosecco and wake up to the luxury of a delicious full English br
 eakfast all for £180! To reserve your Prosecco package\, contact our sale
 s team on\n0121 357 1141 or sales@thegreatbarrhotel.com\n&nbsp\;
LOCATION:The Great Barr Hotel\, Pear Tree Dr\, Newton Rd\, Great Barr\, Wes
 t Midlands\,  B43 6HS\, England
X-APPLE-STRUCTURED-LOCATION;VALUE=URI;X-ADDRESS=Pear Tree Dr\, Newton Rd\, 
 Great Barr\, West Midlands\,  B43 6HS\, England;X-APPLE-RADIUS=100;X-TITLE
 =The Great Barr Hotel:geo:0,0
END:VEVENT
END:VCALENDAR