BEGIN:VCALENDAR
VERSION:2.0
PRODID:-//wp-events-plugin.com//7.2.3.1//EN
BEGIN:VEVENT
UID:14@thegreatbarrhotel.com
DTSTART:20240120T193000Z
DTEND:20240121T003000Z
DTSTAMP:20240116T161230Z
URL:https://www.thegreatbarrhotel.com/events/abba-tribute-2/
SUMMARY:ABBA Tribute
DESCRIPTION:Experience an unforgettable evening immersed in the timeless tu
 nes of ABBA with our incredible ABBA tribute!
END:VEVENT
END:VCALENDAR